BEGIN:VCALENDAR
PRODID:-//climbIT//Tourenangebot//DE
VERSION:2.0
METHOD:PUBLISH
BEGIN:VEVENT
UID:tour-5b88f08e-2b7c-4bf8-b9b0-02b6ac120008@touren.sac-titlis.ch
DTSTAMP:20260419T154707
SEQUENCE:0
CLASS:PUBLIC
TRANSP:OPAQUE
DTSTART;VALUE=DATE:20190922
DTEND;VALUE=DATE:20190923
SUMMARY:Sektion Titlis: Klettertag
DESCRIPTION:Nach deiner Anmeldung und bei jeder Statusänderung wird ein Kalendereintrag per E-Mail verschickt.\n\nAktuelle Informationen\nTourenlink: https://touren.sac-titlis.ch/tours/view/5b88f08e-2b7c-4bf8-b9b0-02b6ac120008\n\n\nDein Tourenangebot Team
END:VEVENT
END:VCALENDAR