BEGIN:VCALENDAR
PRODID:-//climbIT//Tourenangebot//DE
VERSION:2.0
METHOD:PUBLISH
BEGIN:VEVENT
UID:tour-5b83dd4d-4154-4000-804d-028fac120008@touren.sac-titlis.ch
DTSTAMP:20260419T160430
SEQUENCE:0
CLASS:PUBLIC
TRANSP:OPAQUE
DTSTART;VALUE=DATE:20190722
DTEND;VALUE=DATE:20190727
SUMMARY:Sektion Titlis: Kibe Kletterlager
DESCRIPTION:Nach deiner Anmeldung und bei jeder Statusänderung wird ein Kalendereintrag per E-Mail verschickt.\n\nAktuelle Informationen\nTourenlink: https://touren.sac-titlis.ch/tours/view/5b83dd4d-4154-4000-804d-028fac120008\n\n\nDein Tourenangebot Team
END:VEVENT
END:VCALENDAR